BEGIN:VCALENDAR
VERSION:2.0
PRODID:-//Jennifer Lidikay - ECPv6.15.17//NONSGML v1.0//EN
CALSCALE:GREGORIAN
METHOD:PUBLISH
X-WR-CALNAME:Jennifer Lidikay
X-ORIGINAL-URL:https://arcana-draconis.com
X-WR-CALDESC:Events for Jennifer Lidikay
REFRESH-INTERVAL;VALUE=DURATION:PT1H
X-Robots-Tag:noindex
X-PUBLISHED-TTL:PT1H
BEGIN:VTIMEZONE
TZID:America/Los_Angeles
BEGIN:DAYLIGHT
TZOFFSETFROM:-0800
TZOFFSETTO:-0700
TZNAME:PDT
DTSTART:20180311T100000
END:DAYLIGHT
BEGIN:STANDARD
TZOFFSETFROM:-0700
TZOFFSETTO:-0800
TZNAME:PST
DTSTART:20181104T090000
END:STANDARD
BEGIN:DAYLIGHT
TZOFFSETFROM:-0800
TZOFFSETTO:-0700
TZNAME:PDT
DTSTART:20190310T100000
END:DAYLIGHT
BEGIN:STANDARD
TZOFFSETFROM:-0700
TZOFFSETTO:-0800
TZNAME:PST
DTSTART:20191103T090000
END:STANDARD
BEGIN:DAYLIGHT
TZOFFSETFROM:-0800
TZOFFSETTO:-0700
TZNAME:PDT
DTSTART:20200308T100000
END:DAYLIGHT
BEGIN:STANDARD
TZOFFSETFROM:-0700
TZOFFSETTO:-0800
TZNAME:PST
DTSTART:20201101T090000
END:STANDARD
END:VTIMEZONE
BEGIN:VEVENT
DTSTART;TZID=America/Los_Angeles:20190110T080000
DTEND;TZID=America/Los_Angeles:20190113T170000
DTSTAMP:20260422T210505
CREATED:20181229T071726Z
LAST-MODIFIED:20181229T071726Z
UID:737-1547107200-1547398800@arcana-draconis.com
SUMMARY:Anime Los Angeles
DESCRIPTION:I’m going to ALA January 10-13\, in Ontario\, California! My exact schedule for the con is up in the air\, but I will be hosting the castlevania gathering on Friday\, January 11 at 12 pm. Check the gathering’s event page on facebook for details. Also if you catch me\, be sure to ask about earning my ribbons\, as I will be passing some out this year! Super excited!!
URL:https://arcana-draconis.com/event/anime-los-angeles/
END:VEVENT
END:VCALENDAR